BEGIN:VCALENDAR
VERSION:2.0
PRODID:-//miravenhill.org//NONSGML kigkonsult.se iCalcreator 2.30.10//
CALSCALE:GREGORIAN
METHOD:PUBLISH
UID:05e7eb4c-9e0e-4346-9a41-3cb13b411a23
X-WR-CALDESC:FREE SECOND SATURDAY: Discover\, Explore\, Create\nLocation:\n
 Raven Hill Discovery Center\n\nDate & Time:\nSecond Saturday of each month
 \nNoon–4:00 PM\n\nAudience / Age Level:\nAll ages\, abilities\, and intere
 sts welcome.\n\nCost:\nFREE\n\nRegistration:\nhttps://www.eventbrite.com/e
 /1824606570369?aff=oddtdtcreator\n\nEvent Description:\nJoin us every seco
 nd Saturday for a free afternoon of hands‑on discovery. Families are invit
 ed to enjoy interactive experiences in science\, history\, and art while e
 xploring the museum’s indoor and outdoor exhibits\, including live animals
  and nature displays.\n\nWhat to Expect:\n\nEngaging hands‑on science\, hi
 story\, and art activities\nAnimal encounters and opportunities to explore
  museum exhibits\nAccess to outdoor exhibits that inspire curiosity and ex
 ploration\nCreative problem‑solving and critical thinking experiences\nA f
 un\, educational space for families to learn together\n\nPlease note: Free
  Second Saturdays are designed for quality family time. We kindly ask that
  no large\, organized groups attend.
X-WR-RELCALID:8d713d0d952fb81a787192e442a7b2ff
X-WR-TIMEZONE:America/New_York
BEGIN:VTIMEZONE
TZID:America/New_York
BEGIN:STANDARD
TZNAME:EST
DTSTART:20251102T020000
TZOFFSETFROM:-0400
TZOFFSETTO:-0500
RDATE:20261101T020000
END:STANDARD
BEGIN:DAYLIGHT
TZNAME:EDT
DTSTART:20260308T020000
TZOFFSETFROM:-0500
TZOFFSETTO:-0400
RDATE:20270314T020000
END:DAYLIGHT
END:VTIMEZONE
BEGIN:VEVENT
UID:2d39bc37-55f6-4e1b-87ff-43d584520bde
DTSTAMP:20260421T135256Z
DESCRIPTION:FREE SECOND SATURDAY: Discover\, Explore\, Create\nLocation:\nR
 aven Hill Discovery Center\n\nDate & Time:\nSecond Saturday of each month
 \nNoon–4:00 PM\n\nAudience / Age Level:\nAll ages\, abilities\, and intere
 sts welcome.\n\nCost:\nFREE\n\nRegistration:\nhttps://www.eventbrite.com/e
 /1824606570369?aff=oddtdtcreator\n\nEvent Description:\nJoin us every seco
 nd Saturday for a free afternoon of hands‑on discovery. Families are invit
 ed to enjoy interactive experiences in science\, history\, and art while e
 xploring the museum’s indoor and outdoor exhibits\, including live animals
  and nature displays.\n\nWhat to Expect:\n\nEngaging hands‑on science\, hi
 story\, and art activities\nAnimal encounters and opportunities to explore
  museum exhibits\nAccess to outdoor exhibits that inspire curiosity and ex
 ploration\nCreative problem‑solving and critical thinking experiences\nA f
 un\, educational space for families to learn together\n\nPlease note: Free
  Second Saturdays are designed for quality family time. We kindly ask that
  no large\, organized groups attend.
DTSTART;TZID=America/New_York:20260411T120000
DTEND;TZID=America/New_York:20260411T160000
LOCATION:4737 Fuller Rd.\, East Jordan\, MI 49727 US
SUMMARY:FREE Second Saturdays
END:VEVENT
END:VCALENDAR
