BEGIN:VCALENDAR
VERSION:2.0
PRODID:-//miravenhill.org//NONSGML kigkonsult.se iCalcreator 2.30.10//
CALSCALE:GREGORIAN
METHOD:PUBLISH
UID:c2701c71-151e-4fc2-b4c4-49fcbffd02e5
X-WR-CALDESC:
X-WR-RELCALID:50a4c084c2075d8c7e9e5913e39264c3
X-WR-TIMEZONE:America/New_York
BEGIN:VTIMEZONE
TZID:America/New_York
BEGIN:STANDARD
TZNAME:EST
DTSTART:20211107T020000
TZOFFSETFROM:-0400
TZOFFSETTO:-0500
RDATE:20221106T020000
END:STANDARD
BEGIN:DAYLIGHT
TZNAME:EDT
DTSTART:20210314T020000
TZOFFSETFROM:-0500
TZOFFSETTO:-0400
RDATE:20220313T020000
RDATE:20230312T020000
END:DAYLIGHT
END:VTIMEZONE
BEGIN:VEVENT
UID:ebaf228e-d922-4bcb-a455-dc7d6be18d14
DTSTAMP:20260423T061902Z
DESCRIPTION:
DTSTART;TZID=America/New_York:20220115T120000
DTEND;TZID=America/New_York:20220115T160000
LOCATION:
SUMMARY:Open hours
END:VEVENT
END:VCALENDAR
