BEGIN:VCALENDAR
VERSION:2.0
PRODID:-//miravenhill.org//NONSGML kigkonsult.se iCalcreator 2.30.10//
CALSCALE:GREGORIAN
METHOD:PUBLISH
UID:6a02bd9c-d8ea-4ebe-baae-3ce41c6e2f06
X-WR-CALDESC:Raven Hill Discovery Center offers families an opportunity to 
 explore engineering careers and collaborate to solve real-world science an
 d technology challenges\, encouraging student interest in STEM and strengt
 hening the nation's future workforce.
X-WR-RELCALID:d670255f2da48720fc0fb815a152ea32
X-WR-TIMEZONE:America/New_York
BEGIN:VTIMEZONE
TZID:America/New_York
BEGIN:STANDARD
TZNAME:EST
DTSTART:20161106T020000
TZOFFSETFROM:-0400
TZOFFSETTO:-0500
RDATE:20171105T020000
RDATE:20181104T020000
END:STANDARD
BEGIN:DAYLIGHT
TZNAME:EDT
DTSTART:20170312T020000
TZOFFSETFROM:-0500
TZOFFSETTO:-0400
RDATE:20180311T020000
END:DAYLIGHT
END:VTIMEZONE
BEGIN:VEVENT
UID:b4936465-4a71-4ad7-a7f9-5f2958a355f6
DTSTAMP:20260419T152508Z
DESCRIPTION:Raven Hill Discovery Center offers families an opportunity to e
 xplore engineering careers and collaborate to solve real-world science and
  technology challenges\, encouraging student interest in STEM and strength
 ening the nation's future workforce.
DTSTART;TZID=America/New_York:20170819T100000
DTEND;TZID=America/New_York:20170819T160000
LOCATION:Raven Hill Discovery Center
SUMMARY:TEC Day:  Technology Explorations and Challenges
END:VEVENT
END:VCALENDAR
