BEGIN:VCALENDAR
VERSION:2.0
PRODID:-//miravenhill.org//NONSGML kigkonsult.se iCalcreator 2.30.10//
CALSCALE:GREGORIAN
METHOD:PUBLISH
UID:bb1a7037-ae7b-4239-a5bd-019187249ae2
X-WR-CALDESC:Holiday breaks bring Discovery Days to Raven Hill.  Come explo
 re indoors and out:  building a tower on the magnet table\, climb inside t
 he kaleidoscope\, play lots of musical instruments\, pet or hold the snake
 s and lizards\, visit the tree house\, play school in the old-fashioned Ra
 ven Hill Schoolhouse\, climb the pyramid and much more.  Admission is $10 
 per person and the average visit is 2 or 3 hours.
X-WR-RELCALID:d1eaa9c74c3f650dfedf40365650ea39
X-WR-TIMEZONE:America/New_York
BEGIN:VTIMEZONE
TZID:America/New_York
BEGIN:STANDARD
TZNAME:EST
DTSTART:20161106T020000
TZOFFSETFROM:-0400
TZOFFSETTO:-0500
RDATE:20171105T020000
END:STANDARD
BEGIN:DAYLIGHT
TZNAME:EDT
DTSTART:20170312T020000
TZOFFSETFROM:-0500
TZOFFSETTO:-0400
RDATE:20180311T020000
END:DAYLIGHT
END:VTIMEZONE
BEGIN:VEVENT
UID:a114aa19-1625-4f11-b19d-c5d03168c03f
DTSTAMP:20260420T124759Z
DESCRIPTION:Holiday breaks bring Discovery Days to Raven Hill.  Come explor
 e indoors and out:  building a tower on the magnet table\, climb inside th
 e kaleidoscope\, play lots of musical instruments\, pet or hold the snakes
  and lizards\, visit the tree house\, play school in the old-fashioned Rav
 en Hill Schoolhouse\, climb the pyramid and much more.  Admission is $10 p
 er person and the average visit is 2 or 3 hours.
DTSTART;TZID=America/New_York:20170330T120000
DTEND;TZID=America/New_York:20170330T160000
LOCATION:Raven Hill Discovery Center
SUMMARY:Discovery Days
END:VEVENT
END:VCALENDAR
