BEGIN:VCALENDAR
VERSION:2.0
PRODID:-//miravenhill.org//NONSGML kigkonsult.se iCalcreator 2.30.10//
CALSCALE:GREGORIAN
METHOD:PUBLISH
UID:b71d1f3a-3286-42a8-b688-446b21a68a54
X-WR-CALDESC:Students will be guided through the inventioning process from 
 designing to creating prototypes. They will create a new spin on a product
   and their inventions will then join the display of items created by stud
 ents in Charlevoix and Emmet Counties for our Patents and Prototypes Exhib
 it opening on Saturday\, April 1\, 2017!  Limit: 20 upper elementary to mi
 ddle school students.
X-WR-RELCALID:76004cbb1487f7a5c79b0ac2d40cb8d2
X-WR-TIMEZONE:America/New_York
BEGIN:VTIMEZONE
TZID:America/New_York
BEGIN:STANDARD
TZNAME:EST
DTSTART:20161106T020000
TZOFFSETFROM:-0400
TZOFFSETTO:-0500
RDATE:20171105T020000
END:STANDARD
BEGIN:DAYLIGHT
TZNAME:EDT
DTSTART:20160313T020000
TZOFFSETFROM:-0500
TZOFFSETTO:-0400
RDATE:20170312T020000
RDATE:20180311T020000
END:DAYLIGHT
END:VTIMEZONE
BEGIN:VEVENT
UID:b7a54f01-f73a-48c2-8b1f-d071d80ee869
DTSTAMP:20260421T034703Z
DESCRIPTION:Students will be guided through the inventioning process from d
 esigning to creating prototypes. They will create a new spin on a product 
  and their inventions will then join the display of items created by stude
 nts in Charlevoix and Emmet Counties for our Patents and Prototypes Exhibi
 t opening on Saturday\, April 1\, 2017!  Limit: 20 upper elementary to mid
 dle school students.
DTSTART;TZID=America/New_York:20170311T100000
DTEND;TZID=America/New_York:20170311T120000
LOCATION:At Raven Hill
SUMMARY:Inventor Workshop
END:VEVENT
END:VCALENDAR
