BEGIN:VCALENDAR
VERSION:2.0
PRODID:-//miravenhill.org//NONSGML kigkonsult.se iCalcreator 2.30.10//
CALSCALE:GREGORIAN
METHOD:PUBLISH
UID:5c0103b6-99de-47f9-8892-45d40b9beebe
X-WR-CALDESC:Raven Hill volunteers wanted to recognize Pat Wulff's dedicati
 ons to helping families experience Raven Hill. What better way to do that 
 than to sponsor an extra free Saturday for families. Since 2010 Pat has sp
 onsored the enormously popular FREE Second Saturdays at Raven Hill Discove
 ry Center. Not only does Pat make it possible for families to explore Rave
 n Hill at no cost on those days\, she is there meeting and greeting and en
 joying the interactions between parents and their children. Open to local 
 families\, just as FREE Second Saturdays are\, Pat Wulff Day will honor Pa
 t in the best way possible: carrying forward her passion for families play
 ing and learning together at the Center. Please plan to just us in honorin
 g Pat on this special Day. \n\nInterested in joining Pat to sponsor the 20
 17 FREE Second Saturdays? Contact Cheri at 231.536.3369 or email Cheri@mir
 avenhill.org
X-WR-RELCALID:6b7f696716dbdc6008ba6f1f62ba7b16
X-WR-TIMEZONE:America/New_York
BEGIN:VTIMEZONE
TZID:America/New_York
BEGIN:STANDARD
TZNAME:EST
DTSTART:20151101T020000
TZOFFSETFROM:-0400
TZOFFSETTO:-0500
RDATE:20161106T020000
RDATE:20171105T020000
END:STANDARD
BEGIN:DAYLIGHT
TZNAME:EDT
DTSTART:20160313T020000
TZOFFSETFROM:-0500
TZOFFSETTO:-0400
RDATE:20170312T020000
RDATE:20180311T020000
END:DAYLIGHT
END:VTIMEZONE
BEGIN:VEVENT
UID:02ceac2b-a736-40f4-a9ef-7110dc756633
DTSTAMP:20260419T123446Z
DESCRIPTION:Raven Hill volunteers wanted to recognize Pat Wulff's dedicatio
 ns to helping families experience Raven Hill. What better way to do that t
 han to sponsor an extra free Saturday for families. Since 2010 Pat has spo
 nsored the enormously popular FREE Second Saturdays at Raven Hill Discover
 y Center. Not only does Pat make it possible for families to explore Raven
  Hill at no cost on those days\, she is there meeting and greeting and enj
 oying the interactions between parents and their children. Open to local f
 amilies\, just as FREE Second Saturdays are\, Pat Wulff Day will honor Pat
  in the best way possible: carrying forward her passion for families playi
 ng and learning together at the Center. Please plan to just us in honoring
  Pat on this special Day. \n\nInterested in joining Pat to sponsor the 201
 7 FREE Second Saturdays? Contact Cheri at 231.536.3369 or email Cheri@mira
 venhill.org
DTSTART;TZID=America/New_York:20160924T120000
DTEND;TZID=America/New_York:20160924T160000
LOCATION:Raven Hill
SUMMARY:Special FREE Family Day
END:VEVENT
END:VCALENDAR
